BEGIN:VCALENDAR
VERSION:2.0
PRODID:-//eventon.com NONSGML v1.0//EN
CALSCALE:GREGORIAN
METHOD:PUBLISH
BEGIN:VEVENT
UID:69e895ebb518d
DTSTAMP:20260422T093331Z
DTSTART:20230303T160000Z
DTEND:20230303T180000Z
LOCATION:
SUMMARY:Salida cultural Cieza
DESCRIPTION:La Concejalía de Cultura del Ayuntamiento de Alguazas reanuda 
 sus visitas culturales. Este viernes 3 de Marzo\,  salida a CIEZA\,  a las 
 16h salida desde la Plaza Adolfo Suárez. Salida gratuita\,  inscripciones 
 en Ayuntamiento de Alguazas.\nhttps://alguazas.es/events/salida-cultural-ci
 eza/
URL:https://alguazas.es/events/salida-cultural-cieza/
END:VEVENT
END:VCALENDAR