BEGIN:VCALENDAR
VERSION:2.0
PRODID:-//eventon.com NONSGML v1.0//EN
CALSCALE:GREGORIAN
METHOD:PUBLISH
BEGIN:VEVENT
UID:69eb7719cce26
DTSTAMP:20260424T135849Z
DTSTART:20230317
DTEND:20230318
LOCATION:
SUMMARY:Salida Cultural Blanca
DESCRIPTION:Continuamos descubriendo bellos rincones de nuestra Región. En
  esta ocasión\,  la Concejalía de Cultura de nuestro Ayuntamiento nos lle
 va a Blanca. Inscripciones en Ayuntamiento de Alguazas. Plazas gratuitas y 
 limitadas.\nhttps://alguazas.es/events/salida-cultural-blanca/
URL:https://alguazas.es/events/salida-cultural-blanca/
END:VEVENT
END:VCALENDAR