BEGIN:VCALENDAR
VERSION:2.0
PRODID:-//eventon.com NONSGML v1.0//EN
CALSCALE:GREGORIAN
METHOD:PUBLISH
BEGIN:VEVENT
UID:69e5a952dc8af
DTSTAMP:20260420T041930Z
DTSTART:20230320T210000Z
DTEND:20230320T220000Z
LOCATION:
SUMMARY:Asamblea ciudadana en el Barrio del Carmen
DESCRIPTION:Este lunes 20 de marzo tendrá lugar una asamblea ciudadana en 
 el Barrio del Carmen donde se presentará el proceso de presupuestos partic
 ipativos del año 2023 y se recogerán las propuestas e inquietudes que tra
 sladen los vecinos. Será a las 9 de la noche en la Plaza Paco Serna.\nhttp
 s://alguazas.es/events/asamblea-ciudadana-en-el-barrio-del-carmen-2/
URL:https://alguazas.es/events/asamblea-ciudadana-en-el-barrio-del-carmen-2/
END:VEVENT
END:VCALENDAR