BEGIN:VCALENDAR
VERSION:2.0
PRODID:-//eventon.com NONSGML v1.0//EN
CALSCALE:GREGORIAN
METHOD:PUBLISH
BEGIN:VEVENT
UID:69e8e22e889a9
DTSTAMP:20260422T145854Z
DTSTART:20231108
DTEND:20231109
LOCATION:
SUMMARY:Torneo de dominó de las Fiestas de la Purísima
DESCRIPTION:La concejalía de Mayores anuncia el torneo de dominó que del 
 8 de noviembre al 1 de diciembre tendrá lugar en el Hogar del Pensionista 
 todas las tardes.\nhttps://alguazas.es/events/torneo-de-domino-de-las-fiest
 as-de-la-purisima/
URL:https://alguazas.es/events/torneo-de-domino-de-las-fiestas-de-la-purisima/
END:VEVENT
END:VCALENDAR