BEGIN:VCALENDAR
VERSION:2.0
PRODID:-//eventon.com NONSGML v1.0//EN
CALSCALE:GREGORIAN
METHOD:PUBLISH
BEGIN:VEVENT
UID:69e795eed0be2
DTSTAMP:20260421T152118Z
DTSTART:20231118T100000Z
DTEND:20231118T000000Z
LOCATION:
SUMMARY:Masterclass gratuita de flamenco
DESCRIPTION:El próximo sábado 18 de noviembre Daniel Asís impartirá una
  masterclass gratuita para todos los amantes del flamenco que deseen introd
 ucirse a la disciplina. Sábado 18 de noviembre A las 10:00 horas En el cen
 tro multiusos de Plaza Paco Serna Inscríbete https://forms.gle/B2zJeQHBbRv
 AWogHA\nhttps://alguazas.es/events/masterclass-gratuita-de-flamenco/
URL:https://alguazas.es/events/masterclass-gratuita-de-flamenco/
END:VEVENT
END:VCALENDAR