BEGIN:VCALENDAR
VERSION:2.0
PRODID:-//eventon.com NONSGML v1.0//EN
CALSCALE:GREGORIAN
METHOD:PUBLISH
BEGIN:VEVENT
UID:69e79c5fed1ac
DTSTAMP:20260421T154847Z
DTSTART:20210424T173000Z
DTEND:20210424T183000Z
LOCATION:
SUMMARY:Asamblea Presupuestos Participativos: Zona El Paraje
DESCRIPTION:La Concejalía de Participación Ciudadana convoca la Asamblea 
 Ciudadana de la zona El Paraje para que los vecinos puedan conocer qué son
  los presupuestos participativos y presentar sus propuestas a los mismos. L
 ugar: Centro Cívico del Paraje Hora: 17.30 horas Día: sábado 24 de abril
  También puedes presentar tus propuestas[..]\nhttps://alguazas.es/events/a
 samblea-presupuestos-participativos-zona-el-paraje/
URL:https://alguazas.es/events/asamblea-presupuestos-participativos-zona-el-paraje/
END:VEVENT
END:VCALENDAR