BEGIN:VCALENDAR
VERSION:2.0
PRODID:-//eventon.com NONSGML v1.0//EN
CALSCALE:GREGORIAN
METHOD:PUBLISH
BEGIN:VEVENT
UID:69e897f10d398
DTSTAMP:20260422T094209Z
DTSTART:20231223T180000Z
DTEND:20231223T200000Z
LOCATION:
SUMMARY:Belén Viviente
DESCRIPTION:Este sábado te esperamos para la representación del Belén vi
 viente y la feria de Navidad. Sábado 23 de diciembre A las 18:00 horas En 
 la Plaza Adolfo Suárez\nhttps://alguazas.es/events/belen-viviente-2/
URL:https://alguazas.es/events/belen-viviente-2/
END:VEVENT
END:VCALENDAR