BEGIN:VCALENDAR
VERSION:2.0
PRODID:-//eventon.com NONSGML v1.0//EN
CALSCALE:GREGORIAN
METHOD:PUBLISH
BEGIN:VEVENT
UID:69e858ed02a86
DTSTAMP:20260422T051317Z
DTSTART:20231229
DTEND:20231230
LOCATION:
SUMMARY:¡Abre el cine!
DESCRIPTION:Este viernes 29 de diciembre abre el Cine Alguazas con dos estr
 enos increíbles: «Ocho Apellidos Marroquís» y «The Champions». Entrad
 as https://alguazas.es/venta-de-entradas-al-cine-teatro-de&#8230;/\nhttps:/
 /alguazas.es/events/abre-el-cine/
URL:https://alguazas.es/events/abre-el-cine/
END:VEVENT
END:VCALENDAR