BEGIN:VCALENDAR
VERSION:2.0
PRODID:-//eventon.com NONSGML v1.0//EN
CALSCALE:GREGORIAN
METHOD:PUBLISH
BEGIN:VEVENT
UID:69e80440cacc5
DTSTAMP:20260421T231200Z
DTSTART:20231229T170000Z
DTEND:20231229T190000Z
LOCATION:
SUMMARY:Cuentacuentos de Navidad II
DESCRIPTION:Jueves 29 de diciembre A las 17:00 horas En la Plaza Paco Serna
 \nhttps://alguazas.es/events/cuentacuentos-de-navidad-ii/
URL:https://alguazas.es/events/cuentacuentos-de-navidad-ii/
END:VEVENT
END:VCALENDAR