BEGIN:VCALENDAR
VERSION:2.0
PRODID:-//eventon.com NONSGML v1.0//EN
CALSCALE:GREGORIAN
METHOD:PUBLISH
BEGIN:VEVENT
UID:69e796029cd3c
DTSTAMP:20260421T152138Z
DTSTART:20231231T100000Z
DTEND:20231231T110000Z
LOCATION:
SUMMARY:Campanadas Infantiles 2024
DESCRIPTION:Despide el año con las «Campanadas Infantiles» en las que ha
 brá música y mucha diversión para los más pequeños: ???? Domingo 31 de
  diciembre ⏰ A las 10 horas ???? En la Plaza del Ayuntamiento\nhttps://al
 guazas.es/events/campanadas-infantiles-2024/
URL:https://alguazas.es/events/campanadas-infantiles-2024/
END:VEVENT
END:VCALENDAR