BEGIN:VCALENDAR
VERSION:2.0
PRODID:-//eventon.com NONSGML v1.0//EN
CALSCALE:GREGORIAN
METHOD:PUBLISH
BEGIN:VEVENT
UID:69e7b5997ee28
DTSTAMP:20260421T173625Z
DTSTART:20240103T170000Z
DTEND:20240103T190000Z
LOCATION:
SUMMARY:Cuentacuentos de Navidad III
DESCRIPTION:Miércoles 03 de enero A las 17:00 horas En la Casa de la Cultu
 ra\nhttps://alguazas.es/events/cuentacuentos-de-navidad-iii/
URL:https://alguazas.es/events/cuentacuentos-de-navidad-iii/
END:VEVENT
END:VCALENDAR