BEGIN:VCALENDAR
VERSION:2.0
PRODID:-//eventon.com NONSGML v1.0//EN
CALSCALE:GREGORIAN
METHOD:PUBLISH
BEGIN:VEVENT
UID:69e7858586160
DTSTAMP:20260421T141117Z
DTSTART:20240212T120000Z
DTEND:20240212T133000Z
LOCATION:
SUMMARY:Taller de diseño de imágenes para web y redes sociales a través de Canva para comerciantes y empresarios
DESCRIPTION:La Oficina del Emprendedor organiza con la Oficina Acelera Pyme
  de AJE Región de Murcia un taller de «diseño de imágenes para web y re
 des sociales a través de Canva» el próximo lunes 12 de febrero en la Pla
 za de Abastos de Alguazas a las 12:00 horas. Con esta formación[..]\nhttps
 ://alguazas.es/events/taller-de-diseno-de-imagenes-para-web-y-redes-sociale
 s-a-traves-de-canva-para-comerciantes-y-empresarios/
URL:https://alguazas.es/events/taller-de-diseno-de-imagenes-para-web-y-redes-sociales-a-traves-de-canva-para-comerciantes-y-empresarios/
END:VEVENT
END:VCALENDAR