BEGIN:VCALENDAR
VERSION:2.0
PRODID:-//eventon.com NONSGML v1.0//EN
CALSCALE:GREGORIAN
METHOD:PUBLISH
BEGIN:VEVENT
UID:69ea11840d7b9
DTSTAMP:20260423T123308Z
DTSTART:20240317T090000Z
DTEND:20240317T140000Z
LOCATION:
SUMMARY:Torneo regional de kárate
DESCRIPTION:Este domingo Alguazas será sede del torneo regional de karate 
 en el que decenas de deportistas locales competirán con el Club Nikita.\nh
 ttps://alguazas.es/events/torneo-regional-de-karate/
URL:https://alguazas.es/events/torneo-regional-de-karate/
END:VEVENT
END:VCALENDAR