BEGIN:VCALENDAR
VERSION:2.0
PRODID:-//eventon.com NONSGML v1.0//EN
CALSCALE:GREGORIAN
METHOD:PUBLISH
BEGIN:VEVENT
UID:69e79c81e93c3
DTSTAMP:20260421T154921Z
DTSTART:20240414T180000Z
DTEND:20240414T203000Z
LOCATION:
SUMMARY:XIII Certamen de baile de la AEECC
DESCRIPTION:Este domingo 14 de abril disfruta del Certamen de Baile de la A
 sociación Española Contra el Cáncer en Alguazas\,  con las actuaciones d
 e Majorettes Galilea\,  Peña Bailaló\,  Víctor Campos Academia y Daniel 
 Asís Dance.\nhttps://alguazas.es/events/xiii-certamen-de-baile-de-la-aeecc
 /
URL:https://alguazas.es/events/xiii-certamen-de-baile-de-la-aeecc/
END:VEVENT
END:VCALENDAR