BEGIN:VCALENDAR
VERSION:2.0
PRODID:-//eventon.com NONSGML v1.0//EN
CALSCALE:GREGORIAN
METHOD:PUBLISH
BEGIN:VEVENT
UID:69e6654f7fcb3
DTSTAMP:20260420T174135Z
DTSTART:20240413T090000Z
DTEND:20240413T170000Z
LOCATION:
SUMMARY:Torneo club rítmico Alguazas
DESCRIPTION:Este sábado 13 de abril el Pabellón de Alguazas acogerá el t
 orneo de conjuntos interclub y encuentros de escuelas de gimnasia rítmica.
 \nhttps://alguazas.es/events/torneo-club-ritmico-alguazas/
URL:https://alguazas.es/events/torneo-club-ritmico-alguazas/
END:VEVENT
END:VCALENDAR