BEGIN:VCALENDAR
VERSION:2.0
PRODID:-//eventon.com NONSGML v1.0//EN
CALSCALE:GREGORIAN
METHOD:PUBLISH
BEGIN:VEVENT
UID:69e6305a70de1
DTSTAMP:20260420T135538Z
DTSTART:20240412T190000Z
DTEND:20240412T210000Z
LOCATION:
SUMMARY:II Certamen internacional de poesía para jóvenes
DESCRIPTION:Esta tarde viernes 12 de Abril\,  a las 19:00h\,  el CES Vega M
 edia celebra el recital de poesía de los jóvenes finalistas del certamen 
 internacional\,  en el que contaremos con Magdalena Sánchez Blesa.\nhttps:
 //alguazas.es/events/ii-certamen-internacional-de-poesia-para-jovenes/
URL:https://alguazas.es/events/ii-certamen-internacional-de-poesia-para-jovenes/
END:VEVENT
END:VCALENDAR