BEGIN:VCALENDAR
VERSION:2.0
PRODID:-//eventon.com NONSGML v1.0//EN
CALSCALE:GREGORIAN
METHOD:PUBLISH
BEGIN:VEVENT
UID:69e5ac729e587
DTSTAMP:20260420T043250Z
DTSTART:20240427T200000Z
DTEND:20240427T213000Z
LOCATION:
SUMMARY:Musical “Pinocho\,  un musical de aventuras”
DESCRIPTION:La Concejalía de Cultura nos trae al Cine-Teatro IV Centenario
  de la localidad el musical de Pinocho. Una increíble obra que se está ex
 hibiendo en los mejores teatros de España.\nhttps://alguazas.es/events/mus
 ical-pinocho-un-musical-de-aventuras/
URL:https://alguazas.es/events/musical-pinocho-un-musical-de-aventuras/
END:VEVENT
END:VCALENDAR