BEGIN:VCALENDAR
VERSION:2.0
PRODID:-//eventon.com NONSGML v1.0//EN
CALSCALE:GREGORIAN
METHOD:PUBLISH
BEGIN:VEVENT
UID:69e542dca4f8f
DTSTAMP:20260419T210220Z
DTSTART:20240423T163000Z
DTEND:20240423T183000Z
LOCATION:
SUMMARY:Taller "Prevención de Riesgos en el Hogar" para personas mayores.
DESCRIPTION:El martes 23 de abril a las 16:30 horas\,  en el Hogar de la Te
 rcera Edad de Alguazas\,  se llevará a cabo un taller sobre «Prevención 
 de Riesgos en el Hogar» dirigido a personas mayores.\nhttps://alguazas.es/
 events/taller-prevencion-de-riesgos-en-el-hogar-para-personas-mayores/
URL:https://alguazas.es/events/taller-prevencion-de-riesgos-en-el-hogar-para-personas-mayores/
END:VEVENT
END:VCALENDAR