BEGIN:VCALENDAR
VERSION:2.0
PRODID:-//eventon.com NONSGML v1.0//EN
CALSCALE:GREGORIAN
METHOD:PUBLISH
BEGIN:VEVENT
UID:69e5752549629
DTSTAMP:20260420T003653Z
DTSTART:20240423
DTEND:20240424
LOCATION:
SUMMARY:La Concejalía de Cultura anuncia varios eventos con motivo del Día del Libro.
DESCRIPTION:Durante estos próximos días se van a desarrollar distintas ac
 tividades culturales en la localidad con motivo del Día del Libro que hoy 
 martes conmemoramos. La concejala de Cultura\,  María Segura\,  anuncia ac
 tos de todo tipo en el que los artistas y celebridades locales serán los v
 erdaderos protagonistas.\nhttps://alguazas.es/events/la-concejalia-de-cultu
 ra-anuncia-varios-eventos-con-motivo-del-dia-del-libro/
URL:https://alguazas.es/events/la-concejalia-de-cultura-anuncia-varios-eventos-con-motivo-del-dia-del-libro/
END:VEVENT
END:VCALENDAR