BEGIN:VCALENDAR
VERSION:2.0
PRODID:-//eventon.com NONSGML v1.0//EN
CALSCALE:GREGORIAN
METHOD:PUBLISH
BEGIN:VEVENT
UID:69e85bf194b99
DTSTAMP:20260422T052609Z
DTSTART:20240410
DTEND:20240411
LOCATION:
SUMMARY:Bookcrossing en Alguaza
DESCRIPTION:Durante estos días podréis encontrar libros por la calle. Est
 o se llama BOOKCROSSING\,  se trata de dejar libros en espacios públicos p
 ara que otros puedan cogerlos y leerlos. Si te encuentras uno\,  cógelo\, 
  léelo y vuelve a dejarlo en la calle para que otro pueda seguir la cadena
 . ¡Feliz Día[..]\nhttps://alguazas.es/events/bookcrossing-en-alguaza/
URL:https://alguazas.es/events/bookcrossing-en-alguaza/
END:VEVENT
END:VCALENDAR