BEGIN:VCALENDAR
VERSION:2.0
PRODID:-//eventon.com NONSGML v1.0//EN
CALSCALE:GREGORIAN
METHOD:PUBLISH
BEGIN:VEVENT
UID:69e5d4c593dcf
DTSTAMP:20260420T072453Z
DTSTART:20240424T180000Z
DTEND:20240424T193000Z
LOCATION:
SUMMARY:Cuentacuentos infantil
DESCRIPTION:El miércoles 24 de abril a las 18:00 horas se realizará en la
  Biblioteca Municipal una sesión con un cuentacuentos orientada para los n
 iños\nhttps://alguazas.es/events/cuentacuentos-infantil-7/
URL:https://alguazas.es/events/cuentacuentos-infantil-7/
END:VEVENT
END:VCALENDAR