BEGIN:VCALENDAR
VERSION:2.0
PRODID:-//eventon.com NONSGML v1.0//EN
CALSCALE:GREGORIAN
METHOD:PUBLISH
BEGIN:VEVENT
UID:69ea5944b27f3
DTSTAMP:20260423T173916Z
DTSTART:20240504T200000Z
DTEND:20240504T213000Z
LOCATION:
SUMMARY:Obra teatral "Cri\,  Cri\,  Crack"
DESCRIPTION:EL CINE-TEATRO ACOGERÁ ESTE SÁBADO LA OBRA DE TEATRO «CRI\, 
  CRI\,  CRACK» DE YAMPOTEATRO «Cri\,  Cri\,  Crack» es una sucesión de 
 diferentes sketches unidos por un hilo argumental contado desde el juego de
  cuatro personajes. Humor gestual\,  juegos de palabras\,  crítica a la ac
 tualidad\,  música\,  ritmo trepidante&#8230; se reúnen en[..]\nhttps://a
 lguazas.es/events/obra-teatral-cri-cri-crack/
URL:https://alguazas.es/events/obra-teatral-cri-cri-crack/
END:VEVENT
END:VCALENDAR