BEGIN:VCALENDAR
VERSION:2.0
PRODID:-//eventon.com NONSGML v1.0//EN
CALSCALE:GREGORIAN
METHOD:PUBLISH
BEGIN:VEVENT
UID:69e5fbaaa03b2
DTSTAMP:20260420T101050Z
DTSTART:20240616T100000Z
DTEND:20240616T130000Z
LOCATION:
SUMMARY:III Torneo Centurión "Antonio Ruiz Sola"
DESCRIPTION:Mañana domingo el Atlético Villa de Alguazas\,  el FC Cartage
 na y el AD Guadalupe se medirán en la tercera edición de este trofeo que 
 contará con el futbolista Victor Meseguer para el saque de honor. Domingo 
 16 de junio A las 10:00 horas En el Campo de Fútbol de Alguazas\nhttps://a
 lguazas.es/events/iii-torneo-centurion-antonio-ruiz-sola/
URL:https://alguazas.es/events/iii-torneo-centurion-antonio-ruiz-sola/
END:VEVENT
END:VCALENDAR