BEGIN:VCALENDAR
VERSION:2.0
PRODID:-//eventon.com NONSGML v1.0//EN
CALSCALE:GREGORIAN
METHOD:PUBLISH
BEGIN:VEVENT
UID:69e76a75b6ead
DTSTAMP:20260421T121549Z
DTSTART:20240616T013000Z
DTEND:20240616T040000Z
LOCATION:
SUMMARY:Concierto gratuito de Henry Méndez
DESCRIPTION:Esta noche actuará Henry Méndez en las Fiestas de Alguazas\, 
  con entrada gratuita. Comenzará la fiesta con DJ´s a las 23:30 horas y l
 a actuación del artista a la 1:30 horas.\nhttps://alguazas.es/events/conci
 erto-gratuito-de-henry-mendez/
URL:https://alguazas.es/events/concierto-gratuito-de-henry-mendez/
END:VEVENT
END:VCALENDAR