BEGIN:VCALENDAR
VERSION:2.0
PRODID:-//eventon.com NONSGML v1.0//EN
CALSCALE:GREGORIAN
METHOD:PUBLISH
BEGIN:VEVENT
UID:69e6965300cee
DTSTAMP:20260420T211043Z
DTSTART:20240616T100000Z
DTEND:20240616T130000Z
LOCATION:
SUMMARY:BiciAlguazas
DESCRIPTION:Domingo 16 de junio A las 10 horas Salida desde el Ayuntamiento
 \nhttps://alguazas.es/events/bicialguazas/
URL:https://alguazas.es/events/bicialguazas/
END:VEVENT
END:VCALENDAR