BEGIN:VCALENDAR
VERSION:2.0
PRODID:-//eventon.com NONSGML v1.0//EN
CALSCALE:GREGORIAN
METHOD:PUBLISH
BEGIN:VEVENT
UID:69e5a813b93aa
DTSTAMP:20260420T041411Z
DTSTART:20240628T223000Z
DTEND:20240628T235900Z
LOCATION:
SUMMARY:Actuación musical de Juanlu de la Rosa
DESCRIPTION:Esta noche el encargado de animar con su ritmo el evento Aromas
  de Verano organizado por el Ayuntamiento de Alguazas en colaboración con 
 la Asociación de Mujeres es el artista Juanlu de la Rosa. A partir de las 
 22:30 horas podréis disfrutar de su música en directo en la piscina[..]\n
 https://alguazas.es/events/actuacion-musical-de-juanlu-de-la-rosa/
URL:https://alguazas.es/events/actuacion-musical-de-juanlu-de-la-rosa/
END:VEVENT
END:VCALENDAR