BEGIN:VCALENDAR
VERSION:2.0
PRODID:-//eventon.com NONSGML v1.0//EN
CALSCALE:GREGORIAN
METHOD:PUBLISH
BEGIN:VEVENT
UID:69ea114b11473
DTSTAMP:20260423T123211Z
DTSTART:20240629T100000Z
DTEND:20240629T130000Z
LOCATION:
SUMMARY:Exhibición de Gimnasia rítmica en Alguazas
DESCRIPTION:Sábado 29 de junio A las 10:00 horas En el Pabellón de Deport
 es\nhttps://alguazas.es/events/exhibicion-de-gimnasia-ritmica-en-alguazas/
URL:https://alguazas.es/events/exhibicion-de-gimnasia-ritmica-en-alguazas/
END:VEVENT
END:VCALENDAR