BEGIN:VCALENDAR
VERSION:2.0
PRODID:-//eventon.com NONSGML v1.0//EN
CALSCALE:GREGORIAN
METHOD:PUBLISH
BEGIN:VEVENT
UID:69e5416d4ab0b
DTSTAMP:20260419T205613Z
DTSTART:20240709T200000Z
DTEND:20240709T230000Z
LOCATION:
SUMMARY:Pantalla gigante en Alguazas para ver el España-Francia
DESCRIPTION:Hoy martes te esperamos a partir de las 8 de la tarde en la Fan
 s Zone de España en la Plaza Paco Serna. Lleva tu bocina o tambor y tu ban
 dera para animar a la Selección en las semifinales de la Eurocopa. ¡Vamos
  España!\nhttps://alguazas.es/events/pantalla-gigante-en-alguazas-para-ver
 -el-espana-francia/
URL:https://alguazas.es/events/pantalla-gigante-en-alguazas-para-ver-el-espana-francia/
END:VEVENT
END:VCALENDAR