BEGIN:VCALENDAR
VERSION:2.0
PRODID:-//eventon.com NONSGML v1.0//EN
CALSCALE:GREGORIAN
METHOD:PUBLISH
BEGIN:VEVENT
UID:69e55e468b76f
DTSTAMP:20260419T225918Z
DTSTART:20240913T203000Z
DTEND:20240913T220000Z
LOCATION:
SUMMARY:"El último que apague la luz"\,  la última comedia de Antonio Ozores llega hasta Alguazas
DESCRIPTION:Emma Ozores y Rubén Torres protagonizan la obra ¡el último q
 ue apague la luz! La actriz es conocida por su participación en series com
 o “Aquí no hay quien viva”\,  “La que se avecina” o “Farmacia de
  guardia”\,  entre otras. Viernes 13 de septiembre 20:30 horas Teatro de 
 Alguazas Entradas https://alguazas.es/venta-de-entradas-al-cine-teatro-de&#
 8230;/[..]\nhttps://alguazas.es/events/el-ultimo-que-apague-la-luz-la-ultim
 a-comedia-de-antonio-ozores-llega-hasta-alguazas/
URL:https://alguazas.es/events/el-ultimo-que-apague-la-luz-la-ultima-comedia-de-antonio-ozores-llega-hasta-alguazas/
END:VEVENT
END:VCALENDAR