BEGIN:VCALENDAR
VERSION:2.0
PRODID:-//eventon.com NONSGML v1.0//EN
CALSCALE:GREGORIAN
METHOD:PUBLISH
BEGIN:VEVENT
UID:69e53d24dd2c0
DTSTAMP:20260419T203756Z
DTSTART:20240906T213000Z
DTEND:20240906T233000Z
LOCATION:
SUMMARY:RepresentaciÃ³n teatral de "Notre Damme de ParÃ­s"
DESCRIPTION:El grupo de teatro alguaceÃ±o Alter Ego representarÃ¡ su obra Â
 «Notre Damme de ParÃ­sÂ» nuevamente en la localidad. Viernes 6 de septiembr
 e A las 21:30 horas Cine-Teatro de Alguazas\nhttps://alguazas.es/events/rep
 resentacion-teatral-de-notre-damme-de-paris/
URL:https://alguazas.es/events/representacion-teatral-de-notre-damme-de-paris/
END:VEVENT
END:VCALENDAR