BEGIN:VCALENDAR
VERSION:2.0
PRODID:-//eventon.com NONSGML v1.0//EN
CALSCALE:GREGORIAN
METHOD:PUBLISH
BEGIN:VEVENT
UID:69e94f1035237
DTSTAMP:20260422T224328Z
DTSTART:20250305T180000Z
DTEND:20250305T190000Z
LOCATION:
SUMMARY:Masterclass de Zumba
DESCRIPTION:Impartida por Bailaló Dance Studio. En la Plaza Presidente Ado
 lfo Suárez.\nhttps://alguazas.es/events/masterclass-de-zumba/
URL:https://alguazas.es/events/masterclass-de-zumba/
END:VEVENT
END:VCALENDAR