BEGIN:VCALENDAR
VERSION:2.0
PRODID:-//eventon.com NONSGML v1.0//EN
CALSCALE:GREGORIAN
METHOD:PUBLISH
BEGIN:VEVENT
UID:69eaa850ae898
DTSTAMP:20260423T231632Z
DTSTART:20250305T163000Z
DTEND:20250305T170000Z
LOCATION:
SUMMARY:Inauguración del "Paseo de los Abrazos"
DESCRIPTION:Colocación de adornos en paseo de moreras en la Plaza Presiden
 te Adolfo Suárez\,  a cargo de la Asociación Cultural Amigos de la Torre.
 \nhttps://alguazas.es/events/inauguracion-del-paseo-de-los-abrazos/
URL:https://alguazas.es/events/inauguracion-del-paseo-de-los-abrazos/
END:VEVENT
END:VCALENDAR