BEGIN:VCALENDAR
VERSION:2.0
PRODID:-//eventon.com NONSGML v1.0//EN
CALSCALE:GREGORIAN
METHOD:PUBLISH
BEGIN:VEVENT
UID:69e839850c9be
DTSTAMP:20260422T025917Z
DTSTART:19700101T010000Z
DTEND:19700101T010000Z
LOCATION:
SUMMARY:Lectura del Manifiesto 8M
DESCRIPTION:Lugar: Ayuntamiento de Alguazas.\nhttps://alguazas.es/events/le
 ctura-del-manifiesto-8m/
URL:https://alguazas.es/events/lectura-del-manifiesto-8m/
END:VEVENT
END:VCALENDAR