BEGIN:VCALENDAR
VERSION:2.0
PRODID:-//eventon.com NONSGML v1.0//EN
CALSCALE:GREGORIAN
METHOD:PUBLISH
BEGIN:VEVENT
UID:69ea39ee7675d
DTSTAMP:20260423T152534Z
DTSTART:19700101T010000Z
DTEND:19700101T010000Z
LOCATION:
SUMMARY:Inscripciones abiertas a la actividad "Una Noche en la Biblioteca" para menores de 2ºa 6º de Primaria
DESCRIPTION:La Concejalía de Servicios Sociales\,  financiado con el progr
 ama LOPIVI\,  organiza una actividad para que un grupo de veinte jóvenes d
 e 2º a 6º de Primaria pasen una noche en la Biblioteca como auténticos a
 ventureros entre cuentos y juegos. Más información e inscripciones https:
 //juventud.alguazas.es/events/noche-en-la-biblioteca/ &nbsp;\nhttps://algua
 zas.es/events/inscripciones-abiertas-a-la-actividad-una-noche-en-la-bibliot
 eca-para-menores-de-2o-a-6o-de-primaria/
URL:https://alguazas.es/events/inscripciones-abiertas-a-la-actividad-una-noche-en-la-biblioteca-para-menores-de-2o-a-6o-de-primaria/
END:VEVENT
END:VCALENDAR