BEGIN:VCALENDAR
VERSION:2.0
PRODID:-//eventon.com NONSGML v1.0//EN
CALSCALE:GREGORIAN
METHOD:PUBLISH
BEGIN:VEVENT
UID:69e7e4b281d1e
DTSTAMP:20260421T205722Z
DTSTART:19700101T010000Z
DTEND:19700101T010000Z
LOCATION:
SUMMARY:Del 14 al 28 de Marzo pueden solicitarse plazas para la Escuela Vacacional de Semana Santa
DESCRIPTION:La Concejalía de Educación abre el plazo de inscripción a la
  escuela de vacaciones de Semana Santa que tendrá lugar del 14 al 25 de ab
 ril. El plazo de inscripción estará abierto hasta el 28 de marzo. El serv
 icio de conciliación y ocio alternativo será nuevamente gratuito para las
  familias[..]\nhttps://alguazas.es/events/del-14-al-28-de-marzo-pueden-soli
 citarse-plazas-para-la-escuela-vacacional-de-semana-santa/
URL:https://alguazas.es/events/del-14-al-28-de-marzo-pueden-solicitarse-plazas-para-la-escuela-vacacional-de-semana-santa/
END:VEVENT
END:VCALENDAR