BEGIN:VCALENDAR
VERSION:2.0
PRODID:-//eventon.com NONSGML v1.0//EN
CALSCALE:GREGORIAN
METHOD:PUBLISH
BEGIN:VEVENT
UID:69e5025704de4
DTSTAMP:20260419T162703Z
DTSTART:19700101T010000Z
DTEND:19700101T010000Z
LOCATION:
SUMMARY:El domingo 18 de Mayo tendrá lugar la XII carrera popular "Villa de Alguazas"
DESCRIPTION:Ya tenemos fecha para la XII Carrera Popular que cada año cong
 rega a medio millar de corredores en nuestra localidad. Será el domingo 18
  de mayo por la mañana para la categoría adulta (menores hasta infantil\,
   el sábado 17 por la tarde)\,  organizada por la Concejalía de Deportes 
 del Ayuntamiento[..]\nhttps://alguazas.es/events/el-domingo-18-de-mayo-tend
 ra-lugar-la-xii-carrera-popular-villa-de-alguazas/
URL:https://alguazas.es/events/el-domingo-18-de-mayo-tendra-lugar-la-xii-carrera-popular-villa-de-alguazas/
END:VEVENT
END:VCALENDAR