BEGIN:VCALENDAR
VERSION:2.0
PRODID:-//eventon.com NONSGML v1.0//EN
CALSCALE:GREGORIAN
METHOD:PUBLISH
BEGIN:VEVENT
UID:69e97e931fbf7
DTSTAMP:20260423T020611Z
DTSTART:19700101T010000Z
DTEND:19700101T010000Z
LOCATION:
SUMMARY:El Cine-Teatro IV Centenario de Alguazas acoge este sábado la Obra de Teatro "PREPARADOS\,  VIVOS\,  YA"
DESCRIPTION:Emilia es una deportista de élite\,  compite al máximo nivel\
 ,  a veces gana\,  a veces pierde. Con el suicidio de su padre se le revela
  que su adversario es otro\,  es un rival muy bien entrenado pero no es de 
 carne y hueso. Su vida se tambalea\,  se ha vuelto[..]\nhttps://alguazas.es
 /events/el-cine-teatro-iv-centenario-de-alguazas-acoge-este-sabado-la-obra-
 de-teatro-preparados-vivos-ya/
URL:https://alguazas.es/events/el-cine-teatro-iv-centenario-de-alguazas-acoge-este-sabado-la-obra-de-teatro-preparados-vivos-ya/
END:VEVENT
END:VCALENDAR