BEGIN:VCALENDAR
VERSION:2.0
PRODID:-//eventon.com NONSGML v1.0//EN
CALSCALE:GREGORIAN
METHOD:PUBLISH
BEGIN:VEVENT
UID:69e803fb1299a
DTSTAMP:20260421T231051Z
DTSTART:19700101T010000Z
DTEND:19700101T010000Z
LOCATION:
SUMMARY:EVENTO | III Certamen de Poesía Internacional para Jóvenes Magdalena Sánchez Blesa
DESCRIPTION:En la Casa de la Cultura\nhttps://alguazas.es/events/evento-iii
 -certamen-de-poesia-internacional-para-jovenes-magdalena-sanchez-blesa/
URL:https://alguazas.es/events/evento-iii-certamen-de-poesia-internacional-para-jovenes-magdalena-sanchez-blesa/
END:VEVENT
END:VCALENDAR