BEGIN:VCALENDAR
VERSION:2.0
PRODID:-//eventon.com NONSGML v1.0//EN
CALSCALE:GREGORIAN
METHOD:PUBLISH
BEGIN:VEVENT
UID:69e745daec07b
DTSTAMP:20260421T093938Z
DTSTART:20210422T180000Z
DTEND:20210422T191500Z
LOCATION:
SUMMARY:Cuentacuentos virtual con la Asociación Turulí Turulé
DESCRIPTION:El jueves 22 de abril a las 18:00 horas tendrá lugar este Cuen
 taCuentos infantil que podrá seguirse a través de la página de Facebook 
 de la Biblioteca de Alguazas.\nhttps://alguazas.es/events/cuentacuentos-vir
 tual-con-la-asociacion-turuli-turule/
URL:https://alguazas.es/events/cuentacuentos-virtual-con-la-asociacion-turuli-turule/
END:VEVENT
END:VCALENDAR