BEGIN:VCALENDAR
VERSION:2.0
PRODID:-//eventon.com NONSGML v1.0//EN
CALSCALE:GREGORIAN
METHOD:PUBLISH
BEGIN:VEVENT
UID:69e5cf451d09a
DTSTAMP:20260420T070125Z
DTSTART:19700101T010000Z
DTEND:19700101T010000Z
LOCATION:
SUMMARY:Partido de fútbol Cadete vs A.D. Ceutí
DESCRIPTION:Partido de categoría Cadete: Alguazas C.F. vs A.D. Ceutí Día
 : domingo 2 de mayo Hora: 17:00 horas Lugar: Campo de Fútbol nuevo San Lor
 enzo de Alguazas\nhttps://alguazas.es/events/partido-de-futbol-cadete-vs-a-
 d-ceuti/
URL:https://alguazas.es/events/partido-de-futbol-cadete-vs-a-d-ceuti/
END:VEVENT
END:VCALENDAR