BEGIN:VCALENDAR
VERSION:2.0
PRODID:-//eventon.com NONSGML v1.0//EN
CALSCALE:GREGORIAN
METHOD:PUBLISH
BEGIN:VEVENT
UID:69e90143157ff
DTSTAMP:20260422T171131Z
DTSTART:20250629T180000Z
DTEND:20250629T190000Z
LOCATION:
SUMMARY:Concurso infantil de dibujo con merienda para los participantes
DESCRIPTION:👶Concurso infantil de dibujo con merienda para los participa
 ntes 🕑Hora: 18:00h 📌Lugar: Centro Cívico\nhttps://alguazas.es/events
 /concurso-infantil-de-dibujo-con-merienda-para-los-participantes/
URL:https://alguazas.es/events/concurso-infantil-de-dibujo-con-merienda-para-los-participantes/
END:VEVENT
END:VCALENDAR