BEGIN:VCALENDAR
VERSION:2.0
PRODID:-//eventon.com NONSGML v1.0//EN
CALSCALE:GREGORIAN
METHOD:PUBLISH
BEGIN:VEVENT
UID:69e8ccd2e74de
DTSTAMP:20260422T132746Z
DTSTART:20210515T124500Z
DTEND:20210515T140000Z
LOCATION:
SUMMARY:Partido de fútbol 2ª Alevín vs E.F. San Miguel B
DESCRIPTION:Partido de categoría 2ª Alevín: Alguazas C.F. vs E.F. San Mi
 guel B. Día: sábado 15 de mayo Hora: 12:45 horas Lugar: Campo de Fútbol 
 nuevo San Lorenzo de Alguazas\nhttps://alguazas.es/events/partido-de-futbol
 -2a-alevin-vs-e-f-san-miguel-b/
URL:https://alguazas.es/events/partido-de-futbol-2a-alevin-vs-e-f-san-miguel-b/
END:VEVENT
END:VCALENDAR