BEGIN:VCALENDAR
VERSION:2.0
PRODID:-//eventon.com NONSGML v1.0//EN
CALSCALE:GREGORIAN
METHOD:PUBLISH
BEGIN:VEVENT
UID:69e53cd2b797c
DTSTAMP:20260419T203634Z
DTSTART:20250704T220000Z
DTEND:20250704T235900Z
LOCATION:
SUMMARY:Concurso de Migas y actuación de la Orquesta Top Music
DESCRIPTION:🧑‍🍳Concurso de Migas y actuación de la Orquesta Top Mu
 sic🎵 🏆Durante el concierto abra una rifa de: lomo\,  bola de queso y 
 botella de vino 🕑Hora: 22:00h 📌Lugar: Centro Cívico\nhttps://alguaza
 s.es/events/concurso-de-migas-y-actuacion-de-la-orquesta-top-music/
URL:https://alguazas.es/events/concurso-de-migas-y-actuacion-de-la-orquesta-top-music/
END:VEVENT
END:VCALENDAR