BEGIN:VCALENDAR
VERSION:2.0
PRODID:-//eventon.com NONSGML v1.0//EN
CALSCALE:GREGORIAN
METHOD:PUBLISH
BEGIN:VEVENT
UID:69e9c773e248d
DTSTAMP:20260423T071707Z
DTSTART:20250705T120000Z
DTEND:20250705T020000Z
LOCATION:
SUMMARY:Actuación Dj Sami
DESCRIPTION:🎵Actuación Dj Sami 🕑Hora: 00:00h 📌Lugar: Centro Cívi
 co\nhttps://alguazas.es/events/actuacion-dj-sami/
URL:https://alguazas.es/events/actuacion-dj-sami/
END:VEVENT
END:VCALENDAR