BEGIN:VCALENDAR
VERSION:2.0
PRODID:-//eventon.com NONSGML v1.0//EN
CALSCALE:GREGORIAN
METHOD:PUBLISH
BEGIN:VEVENT
UID:69e56136649d6
DTSTAMP:20260419T231150Z
DTSTART:20250705T200000Z
DTEND:20250705T220000Z
LOCATION:
SUMMARY:Carrozas
DESCRIPTION:Carrozas 🕑Hora: 20:00h 📌Lugar: Recorrido desde el Camino 
 de la Corte hasta la Torre Vieja\nhttps://alguazas.es/events/carrozas/
URL:https://alguazas.es/events/carrozas/
END:VEVENT
END:VCALENDAR