BEGIN:VCALENDAR
VERSION:2.0
PRODID:-//eventon.com NONSGML v1.0//EN
CALSCALE:GREGORIAN
METHOD:PUBLISH
BEGIN:VEVENT
UID:69e51dcbf2f89
DTSTAMP:20260419T182411Z
DTSTART:20250706T203000Z
DTEND:20250706T213000Z
LOCATION:
SUMMARY:Santa Misa en honor a Santa Bárbara
DESCRIPTION:⛪Santa Misa en honor a Santa Bárbara 🎵Cantos a cargo de l
 a Peña el Molinico 🕑Hora: 20:30h 📌Lugar: Ermita del Paraje\nhttps://
 alguazas.es/events/santa-misa-en-honor-a-santa-barbara/
URL:https://alguazas.es/events/santa-misa-en-honor-a-santa-barbara/
END:VEVENT
END:VCALENDAR