BEGIN:VCALENDAR
VERSION:2.0
PRODID:-//eventon.com NONSGML v1.0//EN
CALSCALE:GREGORIAN
METHOD:PUBLISH
BEGIN:VEVENT
UID:69e7b677c15dd
DTSTAMP:20260421T174007Z
DTSTART:20250626T213000Z
DTEND:20250626T230000Z
LOCATION:
SUMMARY:¡Llega el Festival de Música Celta!
DESCRIPTION:¡Llega el Festival de Música Celta a Alguazas! 26 de junio A 
 las 21:30h Torre Vieja\,  Alguazas (Murcia) Disfruta de una noche mágica c
 on los grupos TÚA y SAL150\,  rodeado de un ambiente único y lleno de tra
 dición celta. Habrá barra de bebidas a cargo de la Comisión de Fiestas[.
 .]\nhttps://alguazas.es/events/llega-el-festival-de-musica-celta/
URL:https://alguazas.es/events/llega-el-festival-de-musica-celta/
END:VEVENT
END:VCALENDAR