BEGIN:VCALENDAR
VERSION:2.0
PRODID:-//eventon.com NONSGML v1.0//EN
CALSCALE:GREGORIAN
METHOD:PUBLISH
BEGIN:VEVENT
UID:69e55de24148c
DTSTAMP:20260419T225738Z
DTSTART:20250711
DTEND:20250712
LOCATION:
SUMMARY:Vuelven las Fiestas del Barrio del Carmen de Alguazas en este 2025
DESCRIPTION:¡YA PUEDES CONSULTAR EL LIBRO DE LAS FIESTAS DEL BARRIO DEL CA
 RMEN 2025! Del 11 al 20 de julio\,  el Barrio del Carmen de Alguazas se lle
 na de alegría\,  tradición y convivencia en honor a la Virgen del Carmen 
 ¡Consulta el libro y prepárate para vivir unas fiestas inolvidables! Puls
 e[..]\nhttps://alguazas.es/events/vuelve-las-fiestas-del-barrio-del-carmen-
 de-alguazas-en-este-2025/
URL:https://alguazas.es/events/vuelve-las-fiestas-del-barrio-del-carmen-de-alguazas-en-este-2025/
END:VEVENT
END:VCALENDAR