BEGIN:VCALENDAR
VERSION:2.0
PRODID:-//eventon.com NONSGML v1.0//EN
CALSCALE:GREGORIAN
METHOD:PUBLISH
BEGIN:VEVENT
UID:69e577a08be5c
DTSTAMP:20260420T004728Z
DTSTART:20250708T210000Z
DTEND:20250708T220000Z
LOCATION:
SUMMARY:Visita de la Virgen a la Calle Capitán Cortés
DESCRIPTION:Rezo del Rosario y luego traslado de la Virgen 📅Fecha: Marte
 s 8 de Julio de 2025 🕑Hora: 21:00h 📌Lugar: Ermita 📌Recorrido: Sali
 da de Ermita hasta la Calle Capitán Cortés\nhttps://alguazas.es/events/vi
 sita-de-la-virgen-a-la-calle-capitan-cortes/
URL:https://alguazas.es/events/visita-de-la-virgen-a-la-calle-capitan-cortes/
END:VEVENT
END:VCALENDAR