BEGIN:VCALENDAR
VERSION:2.0
PRODID:-//eventon.com NONSGML v1.0//EN
CALSCALE:GREGORIAN
METHOD:PUBLISH
BEGIN:VEVENT
UID:69e5a8b0ad5c9
DTSTAMP:20260420T041648Z
DTSTART:20250709T210000Z
DTEND:20250709T220000Z
LOCATION:
SUMMARY:Visita de la Virgen a la Carretera de Mula - Bar Maruso
DESCRIPTION:Rezo del Rosario y luego traslado de la Virgen 📅Fecha: Miér
 coles 9 de Julio de 2025 🕑Hora: 21:00h 📌Lugar: Calle Capitán Cortés
  📌Recorrido: Salida en la Calle Capitán Cortés hasta la Carretera de M
 ula &#8211; Bar Maruso\nhttps://alguazas.es/events/visita-de-la-virgen-a-la
 -carretera-de-mula-bar-maruso/
URL:https://alguazas.es/events/visita-de-la-virgen-a-la-carretera-de-mula-bar-maruso/
END:VEVENT
END:VCALENDAR